BEGIN:VCALENDAR
VERSION:2.0
PRODID:-//Librairie Utopia - ECPv6.15.20//NONSGML v1.0//EN
CALSCALE:GREGORIAN
METHOD:PUBLISH
X-WR-CALNAME:Librairie Utopia
X-ORIGINAL-URL:https://librairie-utopia.org
X-WR-CALDESC:Évènements pour Librairie Utopia
REFRESH-INTERVAL;VALUE=DURATION:PT1H
X-Robots-Tag:noindex
X-PUBLISHED-TTL:PT1H
BEGIN:VTIMEZONE
TZID:Europe/Paris
BEGIN:DAYLIGHT
TZOFFSETFROM:+0100
TZOFFSETTO:+0200
TZNAME:CEST
DTSTART:20250330T010000
END:DAYLIGHT
BEGIN:STANDARD
TZOFFSETFROM:+0200
TZOFFSETTO:+0100
TZNAME:CET
DTSTART:20251026T010000
END:STANDARD
BEGIN:DAYLIGHT
TZOFFSETFROM:+0100
TZOFFSETTO:+0200
TZNAME:CEST
DTSTART:20260329T010000
END:DAYLIGHT
BEGIN:STANDARD
TZOFFSETFROM:+0200
TZOFFSETTO:+0100
TZNAME:CET
DTSTART:20261025T010000
END:STANDARD
BEGIN:DAYLIGHT
TZOFFSETFROM:+0100
TZOFFSETTO:+0200
TZNAME:CEST
DTSTART:20270328T010000
END:DAYLIGHT
BEGIN:STANDARD
TZOFFSETFROM:+0200
TZOFFSETTO:+0100
TZNAME:CET
DTSTART:20271031T010000
END:STANDARD
END:VTIMEZONE
BEGIN:VEVENT
DTSTART;TZID=Europe/Paris:20260423T180000
DTEND;TZID=Europe/Paris:20260423T193000
DTSTAMP:20260420T044221
CREATED:20260404T123457Z
LAST-MODIFIED:20260406T111642Z
UID:38661-1776967200-1776972600@librairie-utopia.org
SUMMARY:Jeudi 23 avril à 18h : Regards croisés sur la cause animale avec Emilie Dardenne et Marie-Claude Marsolier
DESCRIPTION:Emilie Dardenne est professeure et chercheuse à l’Université Rennes 2\, elle s’interroge sur les rapports entre humains et animaux. Elle nous invite à faire preuve de « zoo-inclusivité »\, c’est-à-dire à prendre davantage en compte les animaux dans nos sphères de décision et d’action. \nMarie-Claude Marsolier est chercheure au CEA et travaille au Muséum national d’histoire naturelle. Concernant les études animales\, elle a publié  Le Mépris des « bêtes » en 2020 et Le fétichisme de la viande en 2025. \nComment\, dans la société occidentale contemporaine\, l’idée d’une suprématie humaine s’est-elle installée ? Le bienêtre animal est-il le bon outil pour penser le traitement des individus dits « d’élevage » ? Quel rôle joue le choix des mots dans la façon dont sont pensés les animaux ? Leur oppression a-t-elle un lien avec les autres dominations à l’œuvre au sein de l’espèce humaine ? Peut-on envisager un horizon d’émancipation pour les animaux non humains ? \nCette rencontre aura lieu à la librairie\, au 1 rue Fréderic Sauton\, Paris 5e (Métro Maubert-Mutualité et Saint Michel\, RER B et C station Saint-Michel-Notre Dame)\nou par zoom en suivant ce lien: https://us02web.zoom.us/j/82271298094?pwd=i0SRbSlqkaI5JaqsYl5nNyl7Z1EZZ8.1\nCode zoom (si demandé): utopia
URL:https://librairie-utopia.org/evenement/38661/
LOCATION:Librairie Utopia\, 1 rue Frédéric Sauton\, Paris\, Île-de-France\, 75005\, France
ATTACH;FMTTYPE=image/png:https://librairie-utopia.org/wp-content/uploads/2026/04/copie-de-post-insta-bout-quentin.png
END:VEVENT
BEGIN:VEVENT
DTSTART;TZID=Europe/Paris:20260430T190000
DTEND;TZID=Europe/Paris:20260430T210000
DTSTAMP:20260420T044221
CREATED:20260404T121917Z
LAST-MODIFIED:20260406T111702Z
UID:38656-1777575600-1777582800@librairie-utopia.org
SUMMARY:Jeudi 30 avril à 19h : Tu nuis à la cause avec Sandrine Rousseau
DESCRIPTION:Le jeudi 30 avril à 19h nous aurons le plaisir d’accueillir  Sandrine Rousseau pour son dernier livre « Tu nuis à la cause ».\nSandrine Rousseau remet le monde à l’endroit dans ce plaidoyer rassembleur en faveur de l’impertinence politique. Parce que nous n’avons plus le temps pour la politesse face à un impératif : gagner face au fascisme. \nUn livre en forme de mise au point éclairante sur les combats qu’elle soutient et leurs enjeux sociétaux. \nCette rencontre aura lieu à la librairie\, au 1 rue Fréderic Sauton\, Paris 5e (Métro Maubert-Mutualité et Saint Michel\, RER B et C station Saint-Michel-Notre Dame)\nou par zoom en suivant ce lien: https://us02web.zoom.us/j/88438997044?pwd=3YRTFYi3PLNlKGzdq3A3tBRYNby1Ca.1\nCode zoom (si demandé): utopia
URL:https://librairie-utopia.org/evenement/jeudi-30-avril-a-19h-tu-nuis-a-la-cause-avec-sandrine-rousseau/
LOCATION:Librairie Utopia\, 1 rue Frédéric Sauton\, Paris\, Île-de-France\, 75005\, France
ATTACH;FMTTYPE=image/png:https://librairie-utopia.org/wp-content/uploads/2026/04/sandrine-rousseau.png
END:VEVENT
BEGIN:VEVENT
DTSTART;TZID=Europe/Paris:20260506T190000
DTEND;TZID=Europe/Paris:20260506T203000
DTSTAMP:20260420T044221
CREATED:20260418T142146Z
LAST-MODIFIED:20260418T150830Z
UID:38816-1778094000-1778099400@librairie-utopia.org
SUMMARY:Mercredi 6 mai : Lancement du dernier livre d'Abel Quentin "Sanctuaires"
DESCRIPTION:Le mercredi 6 mai à 19h nous aurons le plaisir d’accueillir  Abel Quentin pour le lancement de son dernier livre « Sanctuaires». \nProposant de créer un sanctuaire\, l’auteur développe l’idée d’une citadelle où l’intelligence humaine ne serait plus en concurrence avec la machine\, afin d’échapper au langage morbide des algorithmes. Notion polysémique\, il peut s’agir d’un lieu\, d’une oeuvre artistique\, ou d’un âge de la vie. Il revendique le 100 % humain et l’élève au rang de fierté. \nCette rencontre aura lieu à la librairie\, au 1 rue Fréderic Sauton\, Paris 5e (Métro Maubert-Mutualité et Saint Michel\, RER B et C station Saint-Michel-Notre Dame)\nou par zoom en suivant ce lien: https://us02web.zoom.us/j/85023446799?pwd=fMhTPTrNVtJ08OeJSrmdLkRDd66pLk.1\nCode zoom (si demandé): utopia
URL:https://librairie-utopia.org/evenement/jeudi-6-mai-lancement-du-dernier-livre-dabel-quentin-sanctuaires/
ATTACH;FMTTYPE=image/png:https://librairie-utopia.org/wp-content/uploads/2026/04/abel-quentin-6-mai1.png
END:VEVENT
BEGIN:VEVENT
DTSTART;TZID=Europe/Paris:20260528T190000
DTEND;TZID=Europe/Paris:20260528T203000
DTSTAMP:20260420T044221
CREATED:20260417T165310Z
LAST-MODIFIED:20260418T140138Z
UID:38790-1779994800-1780000200@librairie-utopia.org
SUMMARY:Jeudi 28 mai à 19h : L'eau un bien commun !
DESCRIPTION:Le jeudi 28 mai à 19h nous aurons le plaisir d’accueillir Nicolas Celnik et Charlène Descollonges. \nDans leur ouvrage « Les Assoiffeurs »\, Nicolas Celnik et Fabien Benoît explorent l’accaparement des ressources en eau par des acteurs privés et les conséquences de cette gestion sur le débit des sources et sur l’environnement. \nCet ouvrage entend mettre à jour les stratégies et plans pensés par ces entreprises pour accroître encore leur emprise en faisant appel au solutionnisme technologique\, qui nous enserre collectivement et nous empêche d’enclencher une véritable discussion politique et démocratique sur le partage de l’eau.\nDu lobbying en faveur des mégabassines aux efforts des grands acteurs du numérique pour masquer leur consommation d’eau\, en passant par les manœuvres des producteurs de PFAS pour vendre des solutions dépolluantes à des prix exorbitants\, ce livre-enquête révèle l’ampleur du dévoiement de la « démocratie de l’eau à la française »\, court-circuitée par des collusions politiques et jeux de pouvoir. \n  \nCharlène Descollonges est ingénieure hydrologue. Elle a cofondé l’association Pour une hydrologie régénérative\, qui vise à régénérer les cycles de l’eau à l’échelle des territoires pour améliorer leur résilience face aux sécheresse\, aux inondations et à l’érosion. \nL’hydrologie régénérative ravive des savoirs et des techniques ancestraux et\, surtout\, elle cherche à tisser les liens de confiance entre les humains et les autres qu’humains vivant sur un même bassin versant et partageant la même eau. \n  \nCette rencontre aura lieu à la librairie\, au 1 rue Fréderic Sauton\, Paris 5e (Métro Maubert-Mutualité et Saint Michel\, RER B et C station Saint-Michel-Notre Dame)\nou par zoom en suivant ce lien: https://us02web.zoom.us/j/87353498012?pwd=NPi78foanZEYTdJB3DdZfRAzabdBPL.1\nCode zoom (si demandé): utopia
URL:https://librairie-utopia.org/evenement/jeudi-28-mai-a-19h-leau-un-bien-commun/
LOCATION:Librairie Utopia\, 1 rue Frédéric Sauton\, Paris\, Île-de-France\, 75005\, France
ATTACH;FMTTYPE=image/png:https://librairie-utopia.org/wp-content/uploads/2026/04/jeudi-28-mai-leau-un-bien-commun.png
END:VEVENT
BEGIN:VEVENT
DTSTART;TZID=Europe/Paris:20260604T190000
DTEND;TZID=Europe/Paris:20260604T203000
DTSTAMP:20260420T044221
CREATED:20260417T152133Z
LAST-MODIFIED:20260418T140359Z
UID:38782-1780599600-1780605000@librairie-utopia.org
SUMMARY:Jeudi 4 juin : Loi Duplomb le débat confisqué
DESCRIPTION:Le jeudi 4 juin à 19h nous aurons le plaisir d’accueillir Philippe Grandcolas  pour son dernier livre « Loi Duplomb le débat confisqué ». \nDans la foulée de la pétition citoyenne\, ce livre ambitionne de rétablir la vérité et de défendre vraiment les agriculteurs. Les données scientifiques sont formelles : la loi ne sert pas le bien commun\, elle favorise une minorité d’exploitations et nous expose à des dangers indéniables.\nToxicité de l’acétamipride et des néonicotinoïdes\, rôle des agences publiques telles que l’Anses et l’OFB… Derrière les débats passionnés se jouent des enjeux sanitaires\, environnementaux et démocratiques. \n  \nCette rencontre aura lieu à la librairie\, au 1 rue Fréderic Sauton\, Paris 5e (Métro Maubert-Mutualité et Saint Michel\, RER B et C station Saint-Michel-Notre Dame)\nou par zoom en suivant ce lien: https://us02web.zoom.us/j/84077013612?pwd=UNFynRaESVRKi74sL1c8PTmN53YFNh.1\nCode zoom (si demandé): utopia
URL:https://librairie-utopia.org/evenement/jeudi-4-juin-loi-duplomb-le-debat-confisque/
LOCATION:Librairie Utopia\, 1 rue Frédéric Sauton\, Paris\, Île-de-France\, 75005\, France
ATTACH;FMTTYPE=image/png:https://librairie-utopia.org/wp-content/uploads/2026/04/4-juin-philippe-grandcolas.png
END:VEVENT
END:VCALENDAR